BEGIN:VCALENDAR
VERSION:2.0
PRODID:-//Tukios.com/
BEGIN:VEVENT
UID:b5f63a0e-8b98-4e99-9bb8-0d9bf2528ba9@www.smithandkernke.com
DTSTAMP:20260421T173151Z
DTSTART:20260426T190000Z
DTEND:20260426T210000Z
SUMMARY:Visitation with Family
DESCRIPTION:
URL:https://www.smithandkernke.com/obituaries/jean-murphy
LOCATION: 14624 N May Ave  Oklahoma City OK 73134
GEO:35.6196403;-97.5663371
END:VEVENT
END:VCALENDAR