BEGIN:VCALENDAR
VERSION:2.0
PRODID:-//Tukios.com/
BEGIN:VEVENT
UID:382c6694-c65a-4695-aa3b-6a9ecd4eb6bb@www.smithandkernke.com
DTSTAMP:20260421T173152Z
DTSTART:20260427T190000Z
DTEND:20260427T200000Z
SUMMARY:Celebration of Life
DESCRIPTION:
URL:https://www.smithandkernke.com/obituaries/jean-murphy
LOCATION:Crossings Community Church (Chapel) 14600 Portland Ave  Oklahoma 
	City OK 73134
GEO:35.6192799;-97.5821268
END:VEVENT
END:VCALENDAR