BEGIN:VCALENDAR
VERSION:2.0
PRODID:-//Tukios.com/
BEGIN:VEVENT
UID:e322deda-68b4-49e8-93a1-b6dfc4462978@www.smithandkernke.com
DTSTAMP:20260424T010458Z
DTSTART:20260501T190000Z
DTEND:20260501T200000Z
SUMMARY:Memorial Service
DESCRIPTION:
URL:https://www.smithandkernke.com/obituaries/john-collins
LOCATION: 14624 N May Ave  Oklahoma City OK 73134
GEO:35.6196403;-97.5663371
END:VEVENT
END:VCALENDAR