BEGIN:VCALENDAR
VERSION:2.0
PRODID:-//Tukios.com/
BEGIN:VEVENT
UID:03cc2b58-62b8-44b0-a28a-1359b620ea19@www.smithandkernke.com
DTSTAMP:20260422T225206Z
DTSTART:20260428T150000Z
DTEND:20260428T160000Z
SUMMARY:Funeral Service
DESCRIPTION:
URL:https://www.smithandkernke.com/obituaries/richard-carol-ann-mccracken
LOCATION:Quail Springs Baptist Church 14613 North May Avenue  Oklahoma 
	City OK 73134
GEO:35.6190797;-97.5689211
END:VEVENT
END:VCALENDAR