BEGIN:VCALENDAR
VERSION:2.0
PRODID:-//Tukios.com/
BEGIN:VEVENT
UID:89ed905b-694d-41e8-a1d8-41ebbd837218@www.smithandkernke.com
DTSTAMP:20260422T225508Z
DTSTART:20260428
SUMMARY:Burial
DESCRIPTION:
URL:https://www.smithandkernke.com/obituaries/richard-carol-ann-mccracken
LOCATION:Whisler Cemetery 5211 NW 206th Street  Edmond OK 73012
GEO:35.682402;-97.612481
END:VEVENT
END:VCALENDAR